BEGIN:VCALENDAR
VERSION:2.0
PRODID:-//Library Market//iCal Export//EN
BEGIN:VEVENT
SUMMARY:Law Talk-End of Life Decisions
UID:67632
DTSTAMP:20260420T203300Z
DTSTART:20260507T200000Z
DTEND:20260507T210000Z
LOCATION:91 Breazeale St., Belton, SC 29627, United States
ROOM: Friends of the Library Meeting Room
DESCRIPTION:Join us for an overview about End of Life Planning from an SC 
 licensed attorney. The South Carolina Bar has partnered with public libra
 ries across South Carolina to offer the Law Talk program.  Each Law Talk
  is taught by a South Carolina licensed attorney or judge and typically in
 cludes a 30–45 minute presentation followed by a brief question and answ
 er session.   Law Talk sessions are designed to provide general legal i
 nformation on the topic presented. They are not designed to provide guidan
 ce on your specific situation. If you need legal advice on a specific situ
 ation, you will need to consult with an attorney outside of the event sett
 ing. 
URL:https://www.andersonlibrary.org/event/law-talk-end-life-decisions-6763
 2
END:VEVENT
END:VCALENDAR
