BEGIN:VCALENDAR
VERSION:2.0
PRODID:-//Library Market//iCal Export//EN
BEGIN:VEVENT
SUMMARY:Homeschool Enrichment
UID:67480
DTSTAMP:20260420T015700Z
DTSTART:20261113T160000Z
DTEND:20261113T170000Z
LOCATION:650 S. Mechanic St., Pendleton, SC 29670, United States
ROOM: Leigh Ann Carter Room
DESCRIPTION:Pendleton Library&#039;s hosting a monthly meetup for homescho
 olers. Each month we&#039;ll have a new themed activity to explore.Homesch
 ool Enrichment is for children ages 6 (and in 1st grade) through 12. Regis
 tration is required.
URL:https://www.andersonlibrary.org/event/homeschool-enrichment-67480
END:VEVENT
END:VCALENDAR
