BEGIN:VCALENDAR
VERSION:2.0
PRODID:-//Library Market//iCal Export//EN
BEGIN:VEVENT
SUMMARY:Half-Way to Halloween Room Block
UID:61942
DTSTAMP:20260420T204200Z
DTSTART:20260429T220000Z
DTEND:20260429T233000Z
LOCATION:300 N. McDuffie St., Anderson, SC 29621, United States
ROOM: Multipurpose Room ABC
DESCRIPTION:Blurb
URL:https://www.andersonlibrary.org/event/half-way-halloween-room-block-61
 942
END:VEVENT
END:VCALENDAR
